BEGIN:VCALENDAR
VERSION:2.0
CALSCALE:GREGORIAN
METHOD:PUBLISH
PRODID://NCST//210076
BEGIN:VEVENT
DTSTAMP:20260424T223914
VTIMEZONE:America/New_York
DTSTART:20260322T040000Z
DTEND:20260630T040000Z
UID:210076
SUMMARY:Presenter Application to Present
LOCATION:, NC
DESCRIPTION:Presenter Application to Present\n\n03/22/26 12:00 AM EST\n - 06/30/26 12:00 AM EST
X-ALT-DESC;FMTTYPE=text/html:Presenter Application to Present<br /><br />03/22/26 12:00 AM EST - 06/30/26 12:00 AM EST
PRIORITY:3
TRANSP:TRANSPARENT
BEGIN:VALARM
TRIGGER:-PT5M
ACTION:DISPLAY
DESCRIPTION:Reminder
END:VALARM
END:VEVENT
END:VCALENDAR
