BEGIN:VCALENDAR
VERSION:2.0
CALSCALE:GREGORIAN
METHOD:PUBLISH
PRODID://LCDA//210723
BEGIN:VEVENT
DTSTAMP:20260423T073844
VTIMEZONE:America/New_York
DTSTART:20260430T210000Z
DTEND:20260501T010000Z
UID:210723
SUMMARY:LCDA Southeast Member Network Art Tour & Dinner | Winter Park, FL (Orlando Area)
LOCATION:, Winter Park, FL
DESCRIPTION:LCDA Southeast Member Network Art Tour & Dinner | Winter Park, FL (Orlando Area)\n\n04/30/26 05:00 PM EST\n - 04/30/26 09:00 PM EST\Description:\nJoin LCDA on Thursday, April 30, for an intimate evening with our Southeast Member Network in the Orlando area. This gathering brings together members and prospective members for conversation and the opportunity to strengthen connections within our growing leadership and governance community.\n\nThe evening will begin with a private art tour at The Alfond Inn—one of the only hotels in the United States that serves as an extension of an art museum. Located near Rollins College, the Inn features works from the Alfond Collection of Contemporary Art, part of the Rollins Museum of Art, and supports student scholarships through its philanthropic mission. The tour will be led by Leslie Anderson, Bruce A. Beal Executive Director of the Rollins Museum of Art, offering a unique and enriching perspective on the collection.\n\nFollowing the tour, guests will gather for dinner at Cocina 214, generously hosted by LCDA Partner Foley & Lardner.\n\nArt Tour\nThe Alfond Inn\n300 East New England Avenue, Winter Park, FL 32789\nTime: 5:00 PM – 6:15 PM ET\n\nDinner \nCocina 214\n151 E Welbourne Ave, Winter Park, FL 32789\nTime: 6:30 PM – 9:00 PM ET\n\nThis invitation is extended to LCDA members as a benefit of membership. LCDA reserves the right to cancel any registration. All registrations will be reviewed. \n\Location:\n\n\nWinter Park, FL
X-ALT-DESC;FMTTYPE=text/html:LCDA Southeast Member Network Art Tour & Dinner | Winter Park, FL (Orlando Area)<br /><br />04/30/26 05:00 PM EST - 04/30/26 09:00 PM EST<br />Description:<br /><p data-end="462" data-start="74"><span style="font-size:16px"><span style="font-family:arial,helvetica,sans-serif">Join LCDA on Thursday, April 30, for an intimate evening with our Southeast Member Network in the Orlando area. This gathering brings together members and prospective members for conversation and the opportunity to strengthen connections within our growing leadership and governance community.<br />
<br />
The evening will begin with a private art tour at The Alfond Inn&mdash;one of the only hotels in the United States that serves as an extension of an art museum. Located near Rollins College, the Inn features works from the Alfond Collection of Contemporary Art, part of the Rollins Museum of Art, and supports student scholarships through its philanthropic mission. The tour will be led by Leslie Anderson, Bruce A. Beal Executive Director of the Rollins Museum of Art, offering a unique and enriching perspective on the collection.<br />
<br />
Following the tour, guests will gather for dinner at Cocina 214, generously hosted by LCDA Partner Foley &amp; Lardner.<br />
<br />
<strong>Art Tour</strong><br />
The Alfond Inn<br />
300 East New England Avenue, Winter Park, FL 32789<br />
Time: 5:00 PM &ndash; 6:15 PM ET<br />
<br />
<strong>Dinner&nbsp;</strong><br />
Cocina 214<br />
151 E Welbourne Ave, Winter Park, FL 32789<br />
Time: 6:30 PM &ndash; 9:00 PM ET<br />
<br />
<em>This invitation is extended to LCDA members as a benefit of membership. LCDA reserves the right to cancel any registration. All registrations will be reviewed.&nbsp;</em></span></span></p>
<br />Location:<br /><br /><br />Winter Park, FL 
PRIORITY:3
TRANSP:TRANSPARENT
BEGIN:VALARM
TRIGGER:-PT5M
ACTION:DISPLAY
DESCRIPTION:Reminder
END:VALARM
END:VEVENT
END:VCALENDAR
