BEGIN:VCALENDAR
VERSION:2.0
CALSCALE:GREGORIAN
METHOD:PUBLISH
PRODID://CHEM//211447
BEGIN:VEVENT
DTSTAMP:20260423T013421
VTIMEZONE:America/New_York
DTSTART:20260413T230000Z
DTEND:20260414T000000Z
UID:211447
SUMMARY:Etiquette Call
LOCATION:, 30 West 44th Street, New York, NY, 10036
DESCRIPTION:Etiquette Call\n\n04/13/26 07:00 PM EST\n - 04/13/26 08:00 PM EST\Location:\n\n30 West 44th Street\nNew York, NY 10036
X-ALT-DESC;FMTTYPE=text/html:Etiquette Call<br /><br />04/13/26 07:00 PM EST - 04/13/26 08:00 PM EST<br />Location:<br /><br />30 West 44th Street<br />New York, NY 10036
PRIORITY:3
TRANSP:TRANSPARENT
BEGIN:VALARM
TRIGGER:-PT5M
ACTION:DISPLAY
DESCRIPTION:Reminder
END:VALARM
END:VEVENT
END:VCALENDAR
