BEGIN:VCALENDAR
VERSION:2.0
CALSCALE:GREGORIAN
METHOD:PUBLISH
PRODID://ADS//211449
BEGIN:VEVENT
DTSTAMP:20260419T200709
VTIMEZONE:America/New_York
DTSTART:20280914T220000Z
DTEND:20280918T010000Z
UID:211449
SUMMARY:ADS National Show and MidAtlantic Conference
LOCATION:Longwood Gardens, 1001 Longwood Road, Kennett Square, PA, 19348
DESCRIPTION:ADS National Show and MidAtlantic Conference\n\n09/14/28 06:00 PM EST\n - 09/17/28 09:00 PM EST\Description:\nAmerican Dahlia Society and MidAtlantic National Show begins at Longwood Gardens with a welcoming meet and greet beginning around 6 p.m. inside the Conservatory.  \Details:\nInformation to follow on our website.\Location:\nLongwood Gardens\n1001 Longwood Road\nKennett Square, PA 19348
X-ALT-DESC;FMTTYPE=text/html:ADS National Show and MidAtlantic Conference<br /><br />09/14/28 06:00 PM EST - 09/17/28 09:00 PM EST<br />Description:<br />American Dahlia Society and MidAtlantic National Show begins at Longwood Gardens with a welcoming meet and greet beginning around 6 p.m. inside the Conservatory.&nbsp;&nbsp;<br />Details:<br />Information to follow on our website.<br />Location:<br />Longwood Gardens<br />1001 Longwood Road<br />Kennett Square, PA 19348
PRIORITY:3
TRANSP:TRANSPARENT
BEGIN:VALARM
TRIGGER:-PT5M
ACTION:DISPLAY
DESCRIPTION:Reminder
END:VALARM
END:VEVENT
END:VCALENDAR
