BEGIN:VCALENDAR
VERSION:2.0
CALSCALE:GREGORIAN
METHOD:PUBLISH
PRODID://ADS//211451
BEGIN:VEVENT
DTSTAMP:20260419T094451
VTIMEZONE:America/New_York
DTSTART:20260509T140000Z
DTEND:20260509T190000Z
UID:211451
SUMMARY:The Greater Philadelphia Dahlia Society Tuber Sale
LOCATION:Longwood Gardens, 1001 Longwood Road, Kennett Square, PA, 19348
DESCRIPTION:The Greater Philadelphia Dahlia Society Tuber Sale\n\n05/09/26 10:00 AM EST\n - 05/09/26 03:00 PM EST\Description:\nOur tuber sale will begin at 10:00 at the front entrance to Longwood Gardens and run till 3:00 p.m., or till we run out.  Tubers will cost $7.00 apiece.  Our members will be there to answer any of your questions on how to grow your dahlias.\Details:\n$7 Tuber sale for members of the public\Location:\nLongwood Gardens\n1001 Longwood Road\nKennett Square, PA 19348
X-ALT-DESC;FMTTYPE=text/html:The Greater Philadelphia Dahlia Society Tuber Sale<br /><br />05/09/26 10:00 AM EST - 05/09/26 03:00 PM EST<br />Description:<br /><font style="vertical-align: inherit;"><font style="vertical-align: inherit;">Our tuber sale will begin at 10:00 at the front entrance to Longwood Gardens and run till 3:00 p.m., or till we run out.&nbsp; Tubers will cost $7.00 apiece.&nbsp; Our members will be there to answer any of your questions on how to grow your dahlias.</font></font><br />Details:<br />$7 Tuber sale for members of the public<br />Location:<br />Longwood Gardens<br />1001 Longwood Road<br />Kennett Square, PA 19348
PRIORITY:3
TRANSP:TRANSPARENT
BEGIN:VALARM
TRIGGER:-PT5M
ACTION:DISPLAY
DESCRIPTION:Reminder
END:VALARM
END:VEVENT
END:VCALENDAR
