BEGIN:VCALENDAR
VERSION:2.0
CALSCALE:GREGORIAN
METHOD:PUBLISH
PRODID://ADS//211453
BEGIN:VEVENT
DTSTAMP:20260419T123554
VTIMEZONE:America/Denver
DTSTART:20260418T150000Z
DTEND:20260418T180000Z
UID:211453
SUMMARY:Colorado Dahlia Society Annual Tuber Sale
LOCATION:Front Range Gardens, 10195 Wadsworth Blvd., Broomfield, CO, Co, 80021
DESCRIPTION:Colorado Dahlia Society Annual Tuber Sale\n\n04/18/26 09:00 AM MST\n - 04/18/26 12:00 PM MST\Description:\nhttps://coloradodahlias.net/index.php/events/category/upcoming_cds_events/\Details:\nSales from 9-12 noon or until tubers are sold out.\nPUBLIC WELCOME!\n\n \n\Location:\nFront Range Gardens\n10195 Wadsworth Blvd.\nBroomfield, CO, Co 80021
X-ALT-DESC;FMTTYPE=text/html:Colorado Dahlia Society Annual Tuber Sale<br /><br />04/18/26 09:00 AM MST - 04/18/26 12:00 PM MST<br />Description:<br /><a href="https://coloradodahlias.net/index.php/events/category/upcoming_cds_events/">https://coloradodahlias.net/index.php/events/category/upcoming_cds_events/</a><br />Details:<br /><h3>Sales from 9-12 noon or until tubers are sold out.<br />
PUBLIC WELCOME!</h3>

<h3>&nbsp;</h3>
<br />Location:<br />Front Range Gardens<br />10195 Wadsworth Blvd.<br />Broomfield, CO, Co 80021
PRIORITY:3
TRANSP:TRANSPARENT
BEGIN:VALARM
TRIGGER:-PT5M
ACTION:DISPLAY
DESCRIPTION:Reminder
END:VALARM
END:VEVENT
END:VCALENDAR
