BEGIN:VCALENDAR
VERSION:2.0
CALSCALE:GREGORIAN
METHOD:PUBLISH
PRODID://ADS//212389
BEGIN:VEVENT
DTSTAMP:20260419T123203
VTIMEZONE:America/New_York
DTSTART:20260502T120000Z
DTEND:20260502T160000Z
UID:212389
SUMMARY: 2026 SEMDS Dahlia Tuber & Plant Sale
LOCATION: 2026 SEMDS Dahlia Tuber & Plant Sale, TELLY'S GREEN HOUSE, TROY, MI, 48085
DESCRIPTION:2026 SEMDS Dahlia Tuber & Plant Sale\n\n05/02/26 08:00 AM EST\n - 05/02/26 12:00 PM EST\Location:\n 2026 SEMDS Dahlia Tuber & Plant Sale\nTELLY'S GREEN HOUSE\nTROY, MI 48085
X-ALT-DESC;FMTTYPE=text/html: 2026 SEMDS Dahlia Tuber & Plant Sale<br /><br />05/02/26 08:00 AM EST - 05/02/26 12:00 PM EST<br />Location:<br /> 2026 SEMDS Dahlia Tuber & Plant Sale<br />TELLY'S GREEN HOUSE<br />TROY, MI 48085
PRIORITY:3
TRANSP:TRANSPARENT
BEGIN:VALARM
TRIGGER:-PT5M
ACTION:DISPLAY
DESCRIPTION:Reminder
END:VALARM
END:VEVENT
END:VCALENDAR
