BEGIN:VCALENDAR
VERSION:2.0
CALSCALE:GREGORIAN
METHOD:PUBLISH
PRODID://RMWE//212581
BEGIN:VEVENT
DTSTAMP:20260425T212701
VTIMEZONE:America/Denver
DTSTART:20260708T143000Z
DTEND:20260708T213000Z
UID:212581
SUMMARY:IWT/WEF I&C Aeration Workshop
LOCATION:Metro Water Recovery - Northern Treatment Plant (NTP) Visitor's Center, 51 Baseline Road, Brighton, CO, 80603
DESCRIPTION:IWT/WEF I&C Aeration Workshop\n\n07/08/26 08:30 AM MST\n - 07/08/26 03:30 PM MST\Description:\nRMWEA’s Innovative Water Technology Committee is collaborating with WEF's local I&C team to organize a "Workshop in a Box" as part of WEF’s initiative to bring national conference content to regional audiences in a more accessible format. This workshop is based on WEF’s Practical Applications of Instrumentation and Controls for Aeration and Nutrient Removal and will focus on approaches to aeration control, nutrient removal, instrumentation, and process optimization. It will bring together utility staff, regional partners, and subject matter experts for a hands-on learning opportunity and regional knowledge sharing. Schedule as follows:\n\nIntro Session: Aeration Systems & Controls Overview\n8:30–9:00 AM – Coffee, Breakfast, & Welcome (breakfast free with registration)\n9:00–9:05 AM – Opening Remarks\n9:05–9:25 AM – High-Level Overview of Aeration Systems & Controls\n9:25–9:35 AM – Break\n\nSession 1: Instrumentation & Analyzers\n9:35–9:50 AM – Maintenance\n9:50–10:05 AM – Calibration\n10:05–10:20 AM – Testing Applications/Trialing Instruments\n10:20–10:35 AM – Extractive vs. In-Situ Analyzers\n10:35–10:50 AM – Break\n\nSession 2: Poster Sessions\n10:50 AM–12:10 PM – Facilitated Poster Discussions\n\nLunch (lunch free with registration)\n12:10–12:45 PM – Free Time / Lunch \n\nSession 3: Controls\n12:45–1:10 PM – Tuning P&ID Loops: 101\n1:10–1:35 PM – Boulder’s Lessons Learned on Low DO/SND Systems\n1:35–1:50 PM – Break\n\nSession 4: Operator Simulation\n1:50–3:20 PM – Hands-On Interactive Operator Simulation \n3:20–3:25 PM – Debrief\n3:25–3:30 PM – Closing Remarks\n \Details:\nIWT/WEF I&C Aeration Workshop. Details to come soon.\Location:\nMetro Water Recovery - Northern Treatment Plant (NTP) Visitor's Center\n51 Baseline Road\nBrighton, CO 80603
X-ALT-DESC;FMTTYPE=text/html:IWT/WEF I&C Aeration Workshop<br /><br />07/08/26 08:30 AM MST - 07/08/26 03:30 PM MST<br />Description:<br />RMWEA&rsquo;s Innovative Water Technology Committee is collaborating with WEF's local I&amp;C team to organize a &quot;Workshop in a Box&quot; as part of WEF&rsquo;s initiative to bring national conference content to regional audiences in a more accessible format. This workshop is based on WEF&rsquo;s&nbsp;<em>Practical Applications of Instrumentation and Controls for Aeration and Nutrient Removal</em>&nbsp;and will focus on approaches to aeration control, nutrient removal, instrumentation, and process optimization. It will bring together utility staff, regional partners, and subject matter experts for a hands-on learning opportunity and regional knowledge sharing.&nbsp;Schedule as follows:<br />
<br />
Intro Session: Aeration Systems &amp; Controls Overview<br />
8:30&ndash;9:00 AM &ndash; Coffee, Breakfast, &amp; Welcome (breakfast free with registration)<br />
9:00&ndash;9:05 AM &ndash; Opening Remarks<br />
9:05&ndash;9:25 AM &ndash; High-Level Overview of Aeration Systems &amp; Controls<br />
9:25&ndash;9:35 AM &ndash; Break<br />
<br />
Session 1: Instrumentation &amp; Analyzers<br />
9:35&ndash;9:50 AM &ndash; Maintenance<br />
9:50&ndash;10:05 AM &ndash; Calibration<br />
10:05&ndash;10:20 AM &ndash; Testing Applications/Trialing Instruments<br />
10:20&ndash;10:35 AM &ndash; Extractive vs. In-Situ Analyzers<br />
10:35&ndash;10:50 AM &ndash; Break<br />
<br />
Session 2: Poster Sessions<br />
10:50 AM&ndash;12:10 PM &ndash; Facilitated Poster Discussions<br />
<br />
Lunch (lunch free with registration)<br />
12:10&ndash;12:45 PM &ndash; Free Time / Lunch&nbsp;<br />
<br />
Session 3: Controls<br />
12:45&ndash;1:10 PM &ndash; Tuning P&amp;ID Loops: 101<br />
1:10&ndash;1:35 PM &ndash; Boulder&rsquo;s Lessons Learned on Low DO/SND Systems<br />
1:35&ndash;1:50 PM &ndash; Break<br />
<br />
Session 4: Operator Simulation<br />
1:50&ndash;3:20 PM &ndash; Hands-On Interactive Operator Simulation&nbsp;<br />
3:20&ndash;3:25 PM &ndash; Debrief<br />
3:25&ndash;3:30 PM &ndash; Closing Remarks<br />
&nbsp;<br />Details:<br />IWT/WEF I&amp;C Aeration Workshop. Details to come soon.<br />Location:<br />Metro Water Recovery - Northern Treatment Plant (NTP) Visitor's Center<br />51 Baseline Road<br />Brighton, CO 80603
PRIORITY:3
TRANSP:TRANSPARENT
BEGIN:VALARM
TRIGGER:-PT5M
ACTION:DISPLAY
DESCRIPTION:Reminder
END:VALARM
END:VEVENT
END:VCALENDAR
