BEGIN:VCALENDAR
VERSION:2.0
CALSCALE:GREGORIAN
METHOD:PUBLISH
PRODID://VCPA//212664
BEGIN:VEVENT
DTSTAMP:20260422T201629
VTIMEZONE:America/New_York
DTSTART:20260519T120000Z
DTEND:20260519T130000Z
UID:212664
SUMMARY:Shifting the Playbook: Major Regulatory Changes for Federal Contractors (GovCon SIG)
LOCATION:Live Virtual Webinar
DESCRIPTION:Shifting the Playbook: Major Regulatory Changes for Federal Contractors (GovCon SIG)\n\n05/19/26 08:00 AM EST\n - 05/19/26 09:00 AM EST\Description:\nNext in the GovCon Breakfast Series -- Shifting the Playbook: Major Regulatory Changes for Federal Contractors.\n\nThis regulatory update by Fovis Mazars will include:\n\n	Executive Orders: Impacting Federal Contractors\n	National Defense Authorization Act for Fiscal Year 2026\n	CAS Proposed Updates\n	Commerciality\n	Tariff & Trade Developments\n	Small Business / 8(a) Scrutiny\n	Security Updates\n	GSA – Proposed Clause\n	Recent Case Laws\n\n\nDetails: 8:00-9:00 am Tuesday, May 19, 2026\nLive Virtual Meeting: Zoom meeting information will be sent with your email confirmation.\nPresenter: Adam So, CPA, Government Contracting Manager, Forvis Mazars\nBenefits: 1.0 hour of CPE (free to Northern Chapter VSCPA members; non-members pay $25)\n\nWe hope you will join us!\Location:\nLive Virtual Webinar\n\n,
X-ALT-DESC;FMTTYPE=text/html:Shifting the Playbook: Major Regulatory Changes for Federal Contractors (GovCon SIG)<br /><br />05/19/26 08:00 AM EST - 05/19/26 09:00 AM EST<br />Description:<br />Next in the GovCon Breakfast Series --&nbsp;<strong>Shifting the Playbook: Major Regulatory Changes for Federal Contractors</strong>.<br />
<br />
This regulatory update by Fovis Mazars will include:
<ul>
	<li style="margin-left: 40px;">Executive Orders: Impacting Federal Contractors</li>
	<li style="margin-left: 40px;">National Defense Authorization Act for Fiscal Year 2026</li>
	<li style="margin-left: 40px;">CAS Proposed Updates</li>
	<li style="margin-left: 40px;">Commerciality</li>
	<li style="margin-left: 40px;">Tariff &amp; Trade Developments</li>
	<li style="margin-left: 40px;">Small Business / 8(a) Scrutiny</li>
	<li style="margin-left: 40px;">Security Updates</li>
	<li style="margin-left: 40px;">GSA &ndash; Proposed Clause</li>
	<li style="margin-left: 40px;">Recent Case Laws</li>
</ul>
<br />
<u>Details</u>: 8:00-9:00 am Tuesday, May 19, 2026<br />
<u>Live Virtual Meeting</u>: Zoom meeting information will be sent with your email confirmation.<br />
<u>Presenter</u>: Adam So, CPA, Government Contracting Manager,&nbsp;Forvis Mazars<br />
<u>Benefits</u>: 1.0 hour of CPE (free to Northern Chapter VSCPA members; non-members pay $25)<br />
<br />
<span style="font-size:14px"><span style="font-family:arial,helvetica,sans-serif"><em><strong>We hope you will join us!</strong></em></span></span><br />Location:<br />Live Virtual Webinar<br /><br />,  
PRIORITY:3
TRANSP:TRANSPARENT
BEGIN:VALARM
TRIGGER:-PT5M
ACTION:DISPLAY
DESCRIPTION:Reminder
END:VALARM
END:VEVENT
END:VCALENDAR
