BEGIN:VCALENDAR
VERSION:2.0
CALSCALE:GREGORIAN
METHOD:PUBLISH
PRODID://MOST//212746
BEGIN:VEVENT
DTSTAMP:20260424T131302
VTIMEZONE:America/Chicago
DTSTART:20260921T180000Z
DTEND:20260924T220000Z
UID:212746
SUMMARY:35th ANNUAL SEMA CONFERENCE REGISTRATION
LOCATION:Wyndham Executive Center, 2200 Interstate 70 Drive SW, Columbia, MO, 65203
DESCRIPTION:35th ANNUAL SEMA CONFERENCE REGISTRATION\n\n09/21/26 01:00 PM CST\n - 09/24/26 05:00 PM CST\Description:\nTuesday, September 22 - Thursday, September 24, 2025\nWyndham Executive Center\n2200 Interstate 70 Dr SW, Columbia, MO 65203\nHotel room link:  MO Emergency Management Conference\n\nBreakout Topics link: 2026 SEMA Conference Breakout\n\nREGISTRATION COST:     $280 (EARLY BIRD) THROUGH AUGUST 31, 2026        \n                                           $380 (REGULAR) SEPT 1 - SEPT 22\n\n                                          $300 RESILIENCY SUMMIT & SEMA CONFERENCE (EARLYBIRD)      \n                                          $400 RESILIENCY SUMMIT & SEMA CONFERENCE (REGULAR) \n \n\n	\n		\n			TENTATIVE 2026 SEMA CONFERENCE AGENDA\n			(times subject to change)\n		\n		\n			\n			\n				\n					\n						Monday, September 21\n						8:30am - 3:30pm\n						Resiliency Summit\n					\n					\n						 \n						1:00pm - 5:00pm\n						Attendee and Vendor Registration\n					\n					\n						 \n						 \n						 \n					\n					\n						Tuesday, September 22\n						9:00am - 11:30am\n						3 Preconference Tracks\n					\n					\n						 \n						11:30am - 1:00pm\n						Lunch\n					\n					\n						 \n						1:00pm - 3:00pm\n						Opening Session\n					\n					\n						 \n						3:00pm - 5:30pm\n						Vendor Session\n					\n					\n						 \n						9:00am - 5:30pm\n						Vendors Open\n					\n					\n						 \n						 \n						 \n					\n					\n						Wednesday, September 23\n						7:00am - 8:30am\n						Breakfast\n					\n					\n						 \n						8:30am - 10:15am\n						General Session\n					\n					\n						 \n						10:30am - 11:30am\n						Breakout Session\n					\n					\n						 \n						11:30am - 1:00pm\n						Lunch\n					\n					\n						 \n						1:00pm - 2:00pm\n						Breakout Session\n					\n					\n						 \n						2:15pm - 3:15pm\n						Breakout Session\n					\n					\n						 \n						3:30pm - 4:30pm\n						Breakout Session\n					\n					\n						 \n						 \n						 \n					\n					\n						Thursday, September 24\n						7:00am - 8:30am\n						Breakfast\n					\n					\n						 \n						8:30am - 9:30am\n						Breakout Session\n					\n					\n						 \n						9:45am - 10:45am\n						Breakout Session\n					\n					\n						 \n						11:00am - 12:00pm\n						Breakout Session\n					\n					\n						 \n						12:00pm - 1:30pm\n						Lunch\n					\n					\n						 \n						1:30pm - 3:30pm\n						Closing Session\n					\n				\n			\n			\n			 \n			 \n		\n	\n\n\nThe deadline to receive a full refund for registration is Monday, August 31, 2026. Cancellations received after this deadline will not be eligible for a refund. Cancellation requests made on September 1 or later will not receive a refund. Refunds will not be available for registrants who choose to not attend an event. Cancellations must be received by the stated cancellation deadline. For cancellations and refunds, contact Missouri State Troopers Association at 573-635-5500. Refund requests must include the name of the attendee, contact phone number and/or an invoice number. Refunds will be issued in the same manner payment was made.\Location:\nWyndham Executive Center\n2200 Interstate 70 Drive SW\nColumbia, MO 65203
X-ALT-DESC;FMTTYPE=text/html:35th ANNUAL SEMA CONFERENCE REGISTRATION<br /><br />09/21/26 01:00 PM CST - 09/24/26 05:00 PM CST<br />Description:<br /><strong>Tuesday, September 22 - Thursday, September 24, 2025</strong><br />
<strong>Wyndham Executive Center<br />
2200 Interstate 70 Dr SW, Columbia, MO 65203</strong><br />
<span style="font-size:16px"><span style="color:#FF0000"><strong>Hotel room link:&nbsp;&nbsp;</strong></span><a href="https://www.wyndhamhotels.com/wyndham/columbia-missouri/wyndham-executive-center-columbia/overview?checkInDate=09/21/2026&amp;checkOutDate=09/25/2026&amp;groupCode=092126SEM" target="_blank">MO Emergency Management Conference</a><br />
<br />
<strong><span style="color:#FF0000">Breakout Topics link:</span></strong> <a href="https://www.missouritrooper.com/docs/2026_Breakout_Topics.pdf" target="_blank">2026 SEMA Conference Breakout</a></span><br />
<br />
<strong>REGISTRATION COST: &nbsp;&nbsp;&nbsp;&nbsp;$280 (EARLY BIRD) THROUGH AUGUST 31, 2026&nbsp; &nbsp; &nbsp; &nbsp;&nbsp;<br />
&nbsp; &nbsp; &nbsp; &nbsp; &nbsp; &nbsp; &nbsp; &nbsp; &nbsp; &nbsp; &nbsp; &nbsp; &nbsp; &nbsp; &nbsp; &nbsp; &nbsp; &nbsp; &nbsp; &nbsp; &nbsp; &nbsp;$380 (REGULAR) SEPT 1 - SEPT 22<br />
<br />
&nbsp; &nbsp; &nbsp; &nbsp; &nbsp; &nbsp; &nbsp; &nbsp; &nbsp; &nbsp; &nbsp; &nbsp; &nbsp; &nbsp; &nbsp; &nbsp; &nbsp; &nbsp; &nbsp; &nbsp; &nbsp; $300 RESILIENCY SUMMIT &amp; SEMA CONFERENCE (EARLYBIRD)&nbsp; &nbsp; &nbsp;&nbsp;<br />
&nbsp; &nbsp; &nbsp; &nbsp; &nbsp; &nbsp; &nbsp; &nbsp; &nbsp; &nbsp; &nbsp; &nbsp; &nbsp; &nbsp; &nbsp; &nbsp; &nbsp; &nbsp; &nbsp; &nbsp; &nbsp;&nbsp;$400 RESILIENCY SUMMIT &amp; SEMA CONFERENCE (REGULAR)&nbsp;</strong><br />
&nbsp;
<table border="0" style="width:570px">
	<tbody>
		<tr height="42">
			<td colspan="3" height="42" style="text-align: center;" width="570">TENTATIVE 2026 SEMA CONFERENCE AGENDA<br />
			(times subject to change)</td>
		</tr>
		<tr height="6">
			<td height="6">
			<table border="0" style="width:513px">
				<tbody>
					<tr>
						<td nowrap="nowrap" style="width:171px;height:20px;">Monday, September 21</td>
						<td nowrap="nowrap" style="width:124px;height:20px;">8:30am - 3:30pm</td>
						<td nowrap="nowrap" style="width:219px;height:20px;">Resiliency Summit</td>
					</tr>
					<tr>
						<td nowrap="nowrap" style="width:171px;height:20px;">&nbsp;</td>
						<td nowrap="nowrap" style="width:124px;height:20px;">1:00pm - 5:00pm</td>
						<td nowrap="nowrap" style="width:219px;height:20px;">Attendee and Vendor Registration</td>
					</tr>
					<tr>
						<td nowrap="nowrap" style="width:171px;height:20px;">&nbsp;</td>
						<td nowrap="nowrap" style="width:124px;height:20px;">&nbsp;</td>
						<td nowrap="nowrap" style="width:219px;height:20px;">&nbsp;</td>
					</tr>
					<tr>
						<td nowrap="nowrap" style="width:171px;height:20px;">Tuesday, September 22</td>
						<td nowrap="nowrap" style="width:124px;height:20px;">9:00am - 11:30am</td>
						<td nowrap="nowrap" style="width:219px;height:20px;">3 Preconference Tracks</td>
					</tr>
					<tr>
						<td nowrap="nowrap" style="width:171px;height:20px;">&nbsp;</td>
						<td nowrap="nowrap" style="width:124px;height:20px;">11:30am - 1:00pm</td>
						<td nowrap="nowrap" style="width:219px;height:20px;">Lunch</td>
					</tr>
					<tr>
						<td nowrap="nowrap" style="width:171px;height:20px;">&nbsp;</td>
						<td nowrap="nowrap" style="width:124px;height:20px;">1:00pm - 3:00pm</td>
						<td nowrap="nowrap" style="width:219px;height:20px;">Opening Session</td>
					</tr>
					<tr>
						<td nowrap="nowrap" style="width:171px;height:20px;">&nbsp;</td>
						<td nowrap="nowrap" style="width:124px;height:20px;">3:00pm - 5:30pm</td>
						<td nowrap="nowrap" style="width:219px;height:20px;">Vendor Session</td>
					</tr>
					<tr>
						<td nowrap="nowrap" style="width:171px;height:20px;">&nbsp;</td>
						<td nowrap="nowrap" style="width:124px;height:20px;">9:00am - 5:30pm</td>
						<td nowrap="nowrap" style="width:219px;height:20px;">Vendors Open</td>
					</tr>
					<tr>
						<td nowrap="nowrap" style="width:171px;height:20px;">&nbsp;</td>
						<td nowrap="nowrap" style="width:124px;height:20px;">&nbsp;</td>
						<td nowrap="nowrap" style="width:219px;height:20px;">&nbsp;</td>
					</tr>
					<tr>
						<td nowrap="nowrap" style="width:171px;height:20px;">Wednesday, September 23</td>
						<td nowrap="nowrap" style="width:124px;height:20px;">7:00am - 8:30am</td>
						<td nowrap="nowrap" style="width:219px;height:20px;">Breakfast</td>
					</tr>
					<tr>
						<td nowrap="nowrap" style="width:171px;height:20px;">&nbsp;</td>
						<td nowrap="nowrap" style="width:124px;height:20px;">8:30am - 10:15am</td>
						<td nowrap="nowrap" style="width:219px;height:20px;">General Session</td>
					</tr>
					<tr>
						<td nowrap="nowrap" style="width:171px;height:20px;">&nbsp;</td>
						<td nowrap="nowrap" style="width:124px;height:20px;">10:30am - 11:30am</td>
						<td nowrap="nowrap" style="width:219px;height:20px;">Breakout Session</td>
					</tr>
					<tr>
						<td nowrap="nowrap" style="width:171px;height:20px;">&nbsp;</td>
						<td nowrap="nowrap" style="width:124px;height:20px;">11:30am - 1:00pm</td>
						<td nowrap="nowrap" style="width:219px;height:20px;">Lunch</td>
					</tr>
					<tr>
						<td nowrap="nowrap" style="width:171px;height:20px;">&nbsp;</td>
						<td nowrap="nowrap" style="width:124px;height:20px;">1:00pm - 2:00pm</td>
						<td nowrap="nowrap" style="width:219px;height:20px;">Breakout Session</td>
					</tr>
					<tr>
						<td nowrap="nowrap" style="width:171px;height:20px;">&nbsp;</td>
						<td nowrap="nowrap" style="width:124px;height:20px;">2:15pm - 3:15pm</td>
						<td nowrap="nowrap" style="width:219px;height:20px;">Breakout Session</td>
					</tr>
					<tr>
						<td nowrap="nowrap" style="width:171px;height:20px;">&nbsp;</td>
						<td nowrap="nowrap" style="width:124px;height:20px;">3:30pm - 4:30pm</td>
						<td nowrap="nowrap" style="width:219px;height:20px;">Breakout Session</td>
					</tr>
					<tr>
						<td nowrap="nowrap" style="width:171px;height:20px;">&nbsp;</td>
						<td nowrap="nowrap" style="width:124px;height:20px;">&nbsp;</td>
						<td nowrap="nowrap" style="width:219px;height:20px;">&nbsp;</td>
					</tr>
					<tr>
						<td nowrap="nowrap" style="width:171px;height:20px;">Thursday, September 24</td>
						<td nowrap="nowrap" style="width:124px;height:20px;">7:00am - 8:30am</td>
						<td nowrap="nowrap" style="width:219px;height:20px;">Breakfast</td>
					</tr>
					<tr>
						<td nowrap="nowrap" style="width:171px;height:20px;">&nbsp;</td>
						<td nowrap="nowrap" style="width:124px;height:20px;">8:30am - 9:30am</td>
						<td nowrap="nowrap" style="width:219px;height:20px;">Breakout Session</td>
					</tr>
					<tr>
						<td nowrap="nowrap" style="width:171px;height:20px;">&nbsp;</td>
						<td nowrap="nowrap" style="width:124px;height:20px;">9:45am - 10:45am</td>
						<td nowrap="nowrap" style="width:219px;height:20px;">Breakout Session</td>
					</tr>
					<tr>
						<td nowrap="nowrap" style="width:171px;height:20px;">&nbsp;</td>
						<td nowrap="nowrap" style="width:124px;height:20px;">11:00am - 12:00pm</td>
						<td nowrap="nowrap" style="width:219px;height:20px;">Breakout Session</td>
					</tr>
					<tr>
						<td nowrap="nowrap" style="width:171px;height:20px;">&nbsp;</td>
						<td nowrap="nowrap" style="width:124px;height:20px;">12:00pm - 1:30pm</td>
						<td nowrap="nowrap" style="width:219px;height:20px;">Lunch</td>
					</tr>
					<tr>
						<td nowrap="nowrap" style="width:171px;height:20px;">&nbsp;</td>
						<td nowrap="nowrap" style="width:124px;height:20px;">1:30pm - 3:30pm</td>
						<td nowrap="nowrap" style="width:219px;height:20px;">Closing Session</td>
					</tr>
				</tbody>
			</table>
			</td>
			<td>&nbsp;</td>
			<td>&nbsp;</td>
		</tr>
	</tbody>
</table>

<hr /><strong>The deadline to receive a full refund for registration is Monday, August 31, 2026. Cancellations received after this deadline will not be eligible for a refund. Cancellation requests made on September 1 or later will not receive a refund. Refunds will not be available for registrants who choose to not attend an event. Cancellations must be received by the stated cancellation deadline. For cancellations and refunds, contact Missouri State Troopers Association at <a href="tel:573-635-5500">573-635-5500</a>. Refund requests must include the name of the attendee, contact phone number and/or an invoice number. Refunds will be issued in the same manner payment was made.</strong><br />Location:<br />Wyndham Executive Center<br />2200 Interstate 70 Drive SW<br />Columbia, MO 65203
PRIORITY:3
TRANSP:TRANSPARENT
BEGIN:VALARM
TRIGGER:-PT5M
ACTION:DISPLAY
DESCRIPTION:Reminder
END:VALARM
END:VEVENT
END:VCALENDAR
