BEGIN:VCALENDAR
VERSION:2.0
CALSCALE:GREGORIAN
METHOD:PUBLISH
PRODID://CBFA//212780
BEGIN:VEVENT
DTSTAMP:20260425T150623
VTIMEZONE:America/Los_Angeles
DTSTART:20260520T170000Z
DTEND:20260520T183000Z
UID:212780
SUMMARY:One Entry, Many Eyes - Regulatory Frontline Seminar
LOCATION:
DESCRIPTION:One Entry, Many Eyes - Regulatory Frontline Seminar\n\n05/20/26 10:00 AM PST\n - 05/20/26 11:30 AM PST\Description:\nJeff Andersen\nAssistant Port Director, Tactical and Trade, U.S. Customs and Border Protection\n \nJohn Machado \nChief Supervisory Agriculture Specialist DHS/ US Customs and Border Protection \n                                               \n Dario Rocha and John Cheung\nCompliance Investigators Consumer Product Safety Commission\n \nThis will be an in-person event and there will be limited seating at the San Francisco Customs House, Office of Field Operations, 555 Battery Street, San Francisco, CA 94111.\n\n              Wednesday, May 20th, 2026\n              Time:10:00- 11:30 am (PST)\n                    \nThis event features Trade Operations in Practice, covering responsibilities, system challenges and enforcement readiness.  \n\nWhat to expect during examinations, and how to prepare—whether you’re dealing with CBP examinations or CPSC-related reviews\n\nWhat do CBP Examine Officers typically look for.   \n\nCBP guidance on the appropriate requirements, timing, and submission process for Manifest Discrepancy Reports (MDRs).\n\nCBP guidance on resolution of cargo release cancellation requests that remain unresolved in ACE.\n\n 
X-ALT-DESC;FMTTYPE=text/html:One Entry, Many Eyes - Regulatory Frontline Seminar<br /><br />05/20/26 10:00 AM PST - 05/20/26 11:30 AM PST<br />Description:<br /><strong><em>Jeff Andersen</em></strong><br />
<strong><em>Assistant Port Director, Tactical and Trade, U.S. Customs and Border Protection</em></strong><br />
&nbsp;<br />
<strong><em>John Machado </em></strong><br />
<strong><em>Chief Supervisory Agriculture Specialist DHS/ US Customs and Border Protection </em></strong><br />
&nbsp;&nbsp;&nbsp;&nbsp;&nbsp;&nbsp;&nbsp;&nbsp;&nbsp;&nbsp;&nbsp;&nbsp;&nbsp;&nbsp;&nbsp;&nbsp;&nbsp;&nbsp;&nbsp;&nbsp;&nbsp;&nbsp;&nbsp;&nbsp;&nbsp;&nbsp;&nbsp;&nbsp;&nbsp;&nbsp;&nbsp;&nbsp;&nbsp;&nbsp;&nbsp;&nbsp;&nbsp;&nbsp;&nbsp;&nbsp;&nbsp;&nbsp;&nbsp;&nbsp;&nbsp;&nbsp;&nbsp;<br />
<strong><em>&nbsp;Dario Rocha and John Cheung</em></strong><br />
<strong><em>Compliance Investigators Consumer Product Safety Commission</em></strong><br />
&nbsp;<br />
<strong>This will be an in-person event and there will be limited seating at the San Francisco Customs House, Office of Field Operations, 555 Battery Street, San Francisco, CA 94111.</strong><br />
<br />
<strong>&nbsp;&nbsp;&nbsp;&nbsp;&nbsp;&nbsp;&nbsp;&nbsp;&nbsp;&nbsp;&nbsp;&nbsp;&nbsp; Wednesday, May 20<sup>th</sup>, 2026<br />
&nbsp;&nbsp;&nbsp;&nbsp;&nbsp;&nbsp;&nbsp;&nbsp;&nbsp;&nbsp;&nbsp;&nbsp;&nbsp; Time:10:00- 11:30 am (PST)</strong><br />
<strong>&nbsp; &nbsp; &nbsp; &nbsp; &nbsp; &nbsp; &nbsp; &nbsp; &nbsp; &nbsp;&nbsp;</strong><br />
<strong><em>This event features Trade Operations in Practice, covering responsibilities, system challenges and enforcement readiness.&nbsp; </em></strong><br />
<br />
<strong><em>What to expect during examinations, and how to prepare&mdash;whether you&rsquo;re dealing with CBP examinations or CPSC-related reviews</em></strong><br />
<br />
<strong><em>What do CBP Examine Officers typically look for. &nbsp;&nbsp;</em></strong><br />
<br />
<strong><em>CBP guidance on the appropriate requirements, timing, and submission process for Manifest Discrepancy Reports (MDRs).</em></strong><br />
<br />
<strong><em>CBP guidance on resolution of cargo release cancellation requests that remain unresolved in ACE.</em></strong><br />
<br />
&nbsp;
PRIORITY:3
TRANSP:TRANSPARENT
BEGIN:VALARM
TRIGGER:-PT5M
ACTION:DISPLAY
DESCRIPTION:Reminder
END:VALARM
END:VEVENT
END:VCALENDAR
