BEGIN:VCALENDAR
VERSION:2.0
CALSCALE:GREGORIAN
METHOD:PUBLISH
PRODID://SDMB//76566
BEGIN:VEVENT
DTSTAMP:20260425T064423
VTIMEZONE:America/Los_Angeles
DTSTART:20190915T143000Z
DTEND:20190915T183000Z
UID:76566
SUMMARY:Trail Work: Big Laguna Trail/Upper Noble
LOCATION:Penny Pines Trail Head, Sunrise Hwy, Mount Laguna, CA
DESCRIPTION:Trail Work: Big Laguna Trail/Upper Noble\n\n09/15/19 07:30 AM PST\n - 09/15/19 11:30 AM PST\Description:\nThe heavy winter rains have allowed the brush to grow back with a vengeance.  We need your help to cut it back.  By putting the trailwork time in now sets you up for some epic rides this autumn.  Help us get the brush out of your face.   \n\nWe will be working on the Indian Creek Trail below the intersection of Upper Noble Canyon Trail after the portion we left off.\n\nMeet at Penny Pines at 7:30 am, we'll then carpool to the work location on Pine Creek Road.  Look for Brian Suzuki who will be driving a blue Toyota Matrix with SDMBA trailwork signs leaning against the car.\nAll tools & training will be provided (after signing a waiver). We’ll work to 11:30 am; afterward we’ll hand out some swag from Cal Coast Bicycles.\n\nPlease bring your own food & water, eye protection is required, gloves, long sleeves & pants are highly recommended.  Plan accordingly for flies.  Children not advised for this event.\nPlease notify event leader of any medical conditions.\n\n** This event subject to last minute postponement/cancellation because of adverse weather.**\n\nDirections: Take Interstate 8 east to the Sunrise Highway (S1) exit; continue north to mile marker 27.3, Penny Pines parking area (upper Noble Canyon Trail Head).\n\nA Forest Adventure Pass is no longer required at Penny Pines.\n\nQuestions and R.S.V.P. to Brian Suzuki at suzuki727@yahoo.com\Location:\nPenny Pines Trail Head\nSunrise Hwy\nMount Laguna, CA
X-ALT-DESC;FMTTYPE=text/html:Trail Work: Big Laguna Trail/Upper Noble<br /><br />09/15/19 07:30 AM PST - 09/15/19 11:30 AM PST<br />Description:<br />The heavy winter rains have allowed the brush to grow back with a vengeance.&nbsp; We need your help to cut it back.&nbsp; By putting the trailwork time in now sets you up for some epic rides this autumn.&nbsp; Help us get the brush out of your face.&nbsp; &nbsp;<br />
<br />
We will be working on the Indian Creek Trail below the intersection of Upper Noble Canyon Trail after the portion we left off.<br />
<br />
Meet at Penny Pines at 7:30 am, we'll then carpool to the work location on Pine Creek Road.&nbsp; Look for Brian Suzuki who will be driving a blue Toyota Matrix with SDMBA trailwork signs leaning against the car.<br />
All tools &amp; training will be provided (after signing a waiver). We&rsquo;ll work to 11:30 am; afterward we&rsquo;ll hand out some swag from Cal Coast Bicycles.<br />
<br />
Please bring your own food &amp; water, eye protection is required, gloves, long sleeves &amp; pants are highly recommended.&nbsp; Plan accordingly for flies.&nbsp; Children not advised for this event.<br />
Please notify event leader of any medical conditions.<br />
<br />
** This event subject to last minute postponement/cancellation because of adverse weather.**<br />
<br />
Directions: Take Interstate 8 east to the Sunrise Highway (S1) exit; continue north to mile marker 27.3, Penny Pines parking area (upper Noble Canyon Trail Head).<br />
<br />
A Forest Adventure Pass is no longer required at Penny Pines.<br />
<br />
Questions and R.S.V.P. to Brian Suzuki at suzuki727@yahoo.com<br />Location:<br />Penny Pines Trail Head<br />Sunrise Hwy<br />Mount Laguna, CA 
PRIORITY:3
TRANSP:TRANSPARENT
BEGIN:VALARM
TRIGGER:-PT5M
ACTION:DISPLAY
DESCRIPTION:Reminder
END:VALARM
END:VEVENT
END:VCALENDAR
