BEGIN:VCALENDAR
VERSION:2.0
CALSCALE:GREGORIAN
METHOD:PUBLISH
PRODID://SDMB//83316
BEGIN:VEVENT
DTSTAMP:20260421T004629
VTIMEZONE:America/Los_Angeles
DTSTART:20191214T154500Z
DTEND:20191214T200000Z
UID:83316
SUMMARY:Trail Work:  Black Mountain/Black Widow
LOCATION:Black Mountain Trail Head at Laurentian, 9610 Laurentian, San Diego, CA, 92129
DESCRIPTION:Trail Work:  Black Mountain/Black Widow\n\n12/14/19 07:45 AM PST\n - 12/14/19 12:00 PM PST\Description:\nCome join us for the kick off build of the season on Black Widow. We are aiming to complete the work started last season. The First session will be trail tuning where there are overruns, trail creep, and general wear. This will be an all dig session to tackle those problem areas we see appear in the first season's use.\n\nPlease RSVP at the SDMBA MeetUp Event Page\n\nWhat to bring:\nSigned Waiver - https://drive.google.com/file/d/1BomV8--CrVxsnxGf1k8sJhmlmY7aGkum/view?usp=sharing\nSturdy shoes\nGloves\nLong pants/long sleeves\nEye protection\nWater\n\nWhat we provide:\nTools\nTraining and oversight\nLight snacks\nPost event refreshments\n\nPlease remember we are parking in the neighborhood early AM so your silent courtesy is appreciated. We will meet by the kiosk, just past the gate, break into teams (leads will be provided), hike to our work destinations, and get to work.\Location:\nBlack Mountain Trail Head at Laurentian\n9610 Laurentian\nSan Diego, CA 92129
X-ALT-DESC;FMTTYPE=text/html:Trail Work:  Black Mountain/Black Widow<br /><br />12/14/19 07:45 AM PST - 12/14/19 12:00 PM PST<br />Description:<br />Come join us for the kick off build of the season on Black Widow. We are aiming to complete the work started last season. The First session will be trail tuning where there are overruns, trail creep, and general wear. This will be an all dig session to tackle those problem areas we see appear in the first season's use.<br />
<br />
Please RSVP at the <a href="https://www.meetup.com/SAN-DIEGO-MOUNTAIN-BIKING-ASSOCIATION-SDMBA/events/267057183/">SDMBA MeetUp Event Page</a><br />
<br />
What to bring:<br />
Signed Waiver - https://drive.google.com/file/d/1BomV8--CrVxsnxGf1k8sJhmlmY7aGkum/view?usp=sharing<br />
Sturdy shoes<br />
Gloves<br />
Long pants/long sleeves<br />
Eye protection<br />
Water<br />
<br />
What we provide:<br />
Tools<br />
Training and oversight<br />
Light snacks<br />
Post event refreshments<br />
<br />
Please remember we are parking in the neighborhood early AM so your silent courtesy is appreciated. We will meet by the kiosk, just past the gate, break into teams (leads will be provided), hike to our work destinations, and get to work.<br />Location:<br />Black Mountain Trail Head at Laurentian<br />9610 Laurentian<br />San Diego, CA 92129
PRIORITY:3
TRANSP:TRANSPARENT
BEGIN:VALARM
TRIGGER:-PT5M
ACTION:DISPLAY
DESCRIPTION:Reminder
END:VALARM
END:VEVENT
END:VCALENDAR
