BEGIN:VCALENDAR
VERSION:2.0
CALSCALE:GREGORIAN
METHOD:PUBLISH
PRODID://SDMB//87883
BEGIN:VEVENT
DTSTAMP:20260419T095246
VTIMEZONE:America/Los_Angeles
DTSTART:20200215T160000Z
DTEND:20200215T203000Z
UID:87883
SUMMARY:Trail Work: Sycamore Goodan Ranch
LOCATION:Sycamore Goodan Ranch Staging Area, 16281 Sycamore Canyon Road, Poway, CA, 92131
DESCRIPTION:Trail Work: Sycamore Goodan Ranch\n\n02/15/20 08:00 AM PST\n - 02/15/20 12:30 PM PST\Description:\nJoin us for trail work on Martha's at Sycamore/Goodan Ranch in coordination with the County of San Diego\nPlease RSVP so we can ensure you are treated well after the work day.\n\nMeeting Location: 16281 Sycamore Canyon Rd, Poway, CA 92064\n\nInclement weather or unsafe conditions will cancel this event. Updates will be posted here.\n\nWhat to bring:\nSigned Waiver - print out and bring with you or we will have hard copies:\nhttps://drive.google.com/file/d/114TbmX0v-T-Le2r6a6cwMWoDTLhFq0-N/view?usp=sharing\n\nSturdy shoes\nGloves\nLong Pants/Long sleeves\nEye protection\nWater\n\nWhat we provide:\nTools\nTraining and oversight\nLight snacks\nPost event refreshments\Location:\nSycamore Goodan Ranch Staging Area\n16281 Sycamore Canyon Road\nPoway, CA 92131
X-ALT-DESC;FMTTYPE=text/html:Trail Work: Sycamore Goodan Ranch<br /><br />02/15/20 08:00 AM PST - 02/15/20 12:30 PM PST<br />Description:<br />Join us for trail work on Martha's at Sycamore/Goodan Ranch in coordination with the County of San Diego<br />
Please RSVP so we can ensure you are treated well after the work day.<br />
<br />
Meeting Location: 16281 Sycamore Canyon Rd, Poway, CA 92064<br />
<br />
Inclement weather or unsafe conditions will cancel this event. Updates will be posted here.<br />
<br />
What to bring:<br />
Signed Waiver - print out and bring with you or we will have hard copies:<br />
<a href="https://drive.google.com/file/d/114TbmX0v-T-Le2r6a6cwMWoDTLhFq0-N/view?usp=sharing" target="__blank" title="https://drive.google.com/file/d/114TbmX0v-T-Le2r6a6cwMWoDTLhFq0-N/view?usp=sharing">https://drive.google.com/file/d/114TbmX0v-T-Le2r6a6cwMWoDTLhFq0-N/view?usp=sharing</a><br />
<br />
Sturdy shoes<br />
Gloves<br />
Long Pants/Long sleeves<br />
Eye protection<br />
Water<br />
<br />
What we provide:<br />
Tools<br />
Training and oversight<br />
Light snacks<br />
Post event refreshments<br />Location:<br />Sycamore Goodan Ranch Staging Area<br />16281 Sycamore Canyon Road<br />Poway, CA 92131
PRIORITY:3
TRANSP:TRANSPARENT
BEGIN:VALARM
TRIGGER:-PT5M
ACTION:DISPLAY
DESCRIPTION:Reminder
END:VALARM
END:VEVENT
END:VCALENDAR
