BEGIN:VCALENDAR
VERSION:2.0
CALSCALE:GREGORIAN
METHOD:PUBLISH
PRODID://ARM1//90653
BEGIN:VEVENT
DTSTAMP:20260422T162454
VTIMEZONE:America/Chicago
DTSTART:20200306T060000Z
DTEND:20200306T060000Z
UID:90653
SUMMARY:new event
LOCATION:
DESCRIPTION:new event\n\n03/06/20 07:00 PM CST\n - 03/06/20 07:00 PM CST
X-ALT-DESC;FMTTYPE=text/html:new event<br /><br />03/06/20 07:00 PM CST - 03/06/20 07:00 PM CST
PRIORITY:3
TRANSP:TRANSPARENT
BEGIN:VALARM
TRIGGER:-PT5M
ACTION:DISPLAY
DESCRIPTION:Reminder
END:VALARM
END:VEVENT
END:VCALENDAR
