BEGIN:VCALENDAR
VERSION:2.0
CALSCALE:GREGORIAN
METHOD:PUBLISH
PRODID://CWEA//96651
BEGIN:VEVENT
DTSTAMP:20260422T174229
VTIMEZONE:America/New_York
DTSTART:20200604T040000Z
DTEND:20200604T040000Z
UID:96651
SUMMARY:RESCHEDULED - CWEA Stormwater Seminar - December 1, 2020
LOCATION:
DESCRIPTION:RESCHEDULED - CWEA Stormwater Seminar - December 1, 2020\n\n06/04/20 07:00 PM EST\n - 06/04/20 07:00 PM EST\Description:\nTo maximize the availability of the Stormwater Seminar, to those that wish to attend, the decision has been made to postpone the June 4th event until later this year. We are currently working on obtaining a new date, possibly in December, and will release the details as soon as they become available. Any submitted abstracts will be held for the new date, but may be revised by the authors, if necessary.  A new “Call for Abstracts” deadline date will be announced, along with the new seminar date.\n\nIf you have any questions, please feel free to contact Traci Storm at CWEA - traci@chesapeakewea.org
X-ALT-DESC;FMTTYPE=text/html:RESCHEDULED - CWEA Stormwater Seminar - December 1, 2020<br /><br />06/04/20 07:00 PM EST - 06/04/20 07:00 PM EST<br />Description:<br />To maximize the availability of the Stormwater Seminar, to those that wish to attend, the decision has been made to postpone the June 4th event until later this year. We are currently working on obtaining a new date, possibly in December, and will release the details as soon as they become available. Any submitted abstracts will be held for the new date, but may be revised by the authors, if necessary. &nbsp;A new &ldquo;Call for Abstracts&rdquo; deadline date will be announced, along with the new seminar date.<br />
<br />
If you have any questions, please feel free to contact Traci Storm at CWEA&nbsp;-&nbsp;<a href="mailto:traci@chesapeakewea.org">traci@chesapeakewea.org</a>
PRIORITY:3
TRANSP:TRANSPARENT
BEGIN:VALARM
TRIGGER:-PT5M
ACTION:DISPLAY
DESCRIPTION:Reminder
END:VALARM
END:VEVENT
END:VCALENDAR
